BEGIN:VCALENDAR
VERSION:2.0
PRODID:SchoolNow
CALSCALE:GREGORIAN
BEGIN:VEVENT
UID:21d13e80-5f57-11f0-b95b-0294a2314d23
DTSTAMP:20250712T193348Z
SUMMARY:Confirmation - St. Maria Goretti
URL;VALUE=URI:https://www.materdeicatholic.com/calendar/8408782/confirmatio
 n-st-maria-goretti
DTSTART:20260421T200000Z
DTEND:20260421T213000Z
END:VEVENT
END:VCALENDAR
