BEGIN:VCALENDAR
VERSION:2.0
PRODID:SchoolNow
CALSCALE:GREGORIAN
BEGIN:VEVENT
UID:fc88ef92-5f56-11f0-b065-0a58a9feac02
DTSTAMP:20250712T193245Z
SUMMARY:Grandparents Day - Gr. 1-8
URL;VALUE=URI:https://www.materdeicatholic.com/calendar/8408781/grandparent
 s-day-gr-1-8
DTSTART:20260421T140000Z
DTEND:20260421T153000Z
END:VEVENT
END:VCALENDAR
