BEGIN:VCALENDAR
VERSION:2.0
PRODID:SchoolNow
CALSCALE:GREGORIAN
BEGIN:VEVENT
UID:c20b2402-5f56-11f0-bd60-02b0890989d9
DTSTAMP:20250712T193107Z
SUMMARY:Spring Musical
URL;VALUE=URI:https://www.materdeicatholic.com/calendar/8408780/spring-musi
 cal
DTSTART:20260419T170000Z
DTEND:20260419T190000Z
END:VEVENT
END:VCALENDAR
