BEGIN:VCALENDAR
VERSION:2.0
PRODID:SchoolNow
CALSCALE:GREGORIAN
BEGIN:VEVENT
UID:afa4dec0-5f56-11f0-83d8-0294a2314d23
DTSTAMP:20250712T193036Z
SUMMARY:Spring Musical
LOCATION:Mater Dei Gym
URL;VALUE=URI:https://www.materdeicatholic.com/calendar/8408779/spring-musi
 cal
DTSTART:20260418T230000Z
DTEND:20260419T010000Z
END:VEVENT
END:VCALENDAR
