BEGIN:VCALENDAR
VERSION:2.0
PRODID:SchoolNow
CALSCALE:GREGORIAN
BEGIN:VEVENT
UID:9ce5fd8c-5f56-11f0-95b4-0a58a9feac02
DTSTAMP:20250712T193005Z
SUMMARY:Spring Musical
LOCATION:Mater Dei Gym
URL;VALUE=URI:https://www.materdeicatholic.com/calendar/8408778/spring-musi
 cal
DTSTART:20260418T170000Z
DTEND:20260418T190000Z
END:VEVENT
END:VCALENDAR
