BEGIN:VCALENDAR
VERSION:2.0
PRODID:SchoolNow
CALSCALE:GREGORIAN
BEGIN:VEVENT
UID:8458ffe4-5f56-11f0-9c5f-0a58a9feac02
DTSTAMP:20250712T192924Z
SUMMARY:Spring Musical
URL;VALUE=URI:https://www.materdeicatholic.com/calendar/8408777/spring-musi
 cal
DTSTART:20260417T230000Z
DTEND:20260418T010000Z
END:VEVENT
END:VCALENDAR
