BEGIN:VCALENDAR
VERSION:2.0
PRODID:SchoolNow
CALSCALE:GREGORIAN
BEGIN:VEVENT
UID:36e18d44-5f56-11f0-822b-0294a2314d23
DTSTAMP:20250712T192714Z
SUMMARY:Safe Environment Lessons
URL;VALUE=URI:https://www.materdeicatholic.com/calendar/8408775/safe-enviro
 nment-lessons
DTSTART;VALUE=DATE:20260413
DTEND;VALUE=DATE:20260418
END:VEVENT
END:VCALENDAR
