BEGIN:VCALENDAR
VERSION:2.0
PRODID:SchoolNow
CALSCALE:GREGORIAN
BEGIN:VEVENT
UID:e08de906-5f55-11f0-b6b9-02b0890989d9
DTSTAMP:20250712T192449Z
SUMMARY:School Mass
LOCATION:St. Stanislaus Church
URL;VALUE=URI:https://www.materdeicatholic.com/calendar/8408773/school-mass
DTSTART:20260408T150000Z
DTEND:20260408T160000Z
END:VEVENT
END:VCALENDAR
