BEGIN:VCALENDAR
VERSION:2.0
PRODID:SchoolNow
CALSCALE:GREGORIAN
BEGIN:VEVENT
UID:c0f31594-5f55-11f0-9f91-0a58a9feac02
DTSTAMP:20250712T192356Z
SUMMARY:Spring Uniforms Begin
URL;VALUE=URI:https://www.materdeicatholic.com/calendar/8408772/spring-unif
 orms-begin
DTSTART;VALUE=DATE:20260407
DTEND;VALUE=DATE:20260408
END:VEVENT
END:VCALENDAR
