BEGIN:VCALENDAR
VERSION:2.0
PRODID:SchoolNow
CALSCALE:GREGORIAN
BEGIN:VEVENT
UID:b5815cde-5f55-11f0-b255-0a58a9feac02
DTSTAMP:20250712T192337Z
SUMMARY:Classes Resume
URL;VALUE=URI:https://www.materdeicatholic.com/calendar/8408771/classes-res
 ume
DTSTART;VALUE=DATE:20260407
DTEND;VALUE=DATE:20260408
END:VEVENT
END:VCALENDAR
