BEGIN:VCALENDAR
VERSION:2.0
PRODID:SchoolNow
CALSCALE:GREGORIAN
BEGIN:VEVENT
UID:aa886c64-5f55-11f0-8cd6-0a58a9feac02
DTSTAMP:20250712T192318Z
SUMMARY:Easter Sunday
URL;VALUE=URI:https://www.materdeicatholic.com/calendar/8408770/easter-sund
 ay
DTSTART;VALUE=DATE:20260405
DTEND;VALUE=DATE:20260406
END:VEVENT
END:VCALENDAR
