BEGIN:VCALENDAR
VERSION:2.0
PRODID:SchoolNow
CALSCALE:GREGORIAN
BEGIN:VEVENT
UID:94f2db78-5f55-11f0-a7a7-0eda56c5edcb
DTSTAMP:20250712T192242Z
SUMMARY:No School - Easter Monday
URL;VALUE=URI:https://www.materdeicatholic.com/calendar/8408769/no-school-e
 aster-monday
DTSTART;VALUE=DATE:20260406
DTEND;VALUE=DATE:20260407
END:VEVENT
END:VCALENDAR
