BEGIN:VCALENDAR
VERSION:2.0
PRODID:SchoolNow
CALSCALE:GREGORIAN
BEGIN:VEVENT
UID:7548a500-5f55-11f0-9abd-0a58a9feac02
DTSTAMP:20250712T192149Z
SUMMARY:No School - Good Friday
URL;VALUE=URI:https://www.materdeicatholic.com/calendar/8408768/no-school-g
 ood-friday
DTSTART;VALUE=DATE:20260403
DTEND;VALUE=DATE:20260404
END:VEVENT
END:VCALENDAR
