BEGIN:VCALENDAR
VERSION:2.0
PRODID:SchoolNow
CALSCALE:GREGORIAN
BEGIN:VEVENT
UID:64a56918-5f55-11f0-963f-02b0890989d9
DTSTAMP:20250712T192121Z
SUMMARY:No School - Holy Thursday
URL;VALUE=URI:https://www.materdeicatholic.com/calendar/8408767/no-school-h
 oly-thursday
DTSTART;VALUE=DATE:20260402
DTEND;VALUE=DATE:20260403
END:VEVENT
END:VCALENDAR
