BEGIN:VCALENDAR
VERSION:2.0
PRODID:SchoolNow
CALSCALE:GREGORIAN
BEGIN:VEVENT
UID:68c8c482-5ea5-11f0-a043-02b0890989d9
DTSTAMP:20250711T222136Z
SUMMARY:Presentation of the Passion
LOCATION:St. Stanislaus Church
URL;VALUE=URI:https://www.materdeicatholic.com/calendar/8406868/presentatio
 n-of-the-passion
DTSTART:20260331T223000Z
DTEND:20260331T233000Z
END:VEVENT
END:VCALENDAR
