BEGIN:VCALENDAR
VERSION:2.0
PRODID:SchoolNow
CALSCALE:GREGORIAN
BEGIN:VEVENT
UID:559ce49c-5ea5-11f0-8d09-0eda56c5edcb
DTSTAMP:20250711T222104Z
SUMMARY:Presentation of the Passion
LOCATION:St. Stanislaus Church
URL;VALUE=URI:https://www.materdeicatholic.com/calendar/8406867/presentatio
 n-of-the-passion
DTSTART:20260331T173000Z
DTEND:20260331T183000Z
END:VEVENT
END:VCALENDAR
