BEGIN:VCALENDAR
VERSION:2.0
PRODID:SchoolNow
CALSCALE:GREGORIAN
BEGIN:VEVENT
UID:10dd8faa-5ea5-11f0-90f4-0a58a9feac02
DTSTAMP:20250711T221909Z
SUMMARY:Report Cards
URL;VALUE=URI:https://www.materdeicatholic.com/calendar/8406864/report-card
 s
DTSTART;VALUE=DATE:20260320
DTEND;VALUE=DATE:20260321
END:VEVENT
END:VCALENDAR
