BEGIN:VCALENDAR
VERSION:2.0
PRODID:SchoolNow
CALSCALE:GREGORIAN
BEGIN:VEVENT
UID:dbd1cefc-5ea4-11f0-8170-0a58a9feac02
DTSTAMP:20250711T221740Z
SUMMARY:Terra Nova Testing
URL;VALUE=URI:https://www.materdeicatholic.com/calendar/8406862/terra-nova-
 testing
DTSTART;VALUE=DATE:20260323
DTEND;VALUE=DATE:20260326
END:VEVENT
END:VCALENDAR
