BEGIN:VCALENDAR
VERSION:2.0
PRODID:SchoolNow
CALSCALE:GREGORIAN
BEGIN:VEVENT
UID:cd613966-5ea4-11f0-89b2-0a58a9feac02
DTSTAMP:20250711T221716Z
SUMMARY:Terra Nova Testing
URL;VALUE=URI:https://www.materdeicatholic.com/calendar/8406861/terra-nova-
 testing
DTSTART;VALUE=DATE:20260318
DTEND;VALUE=DATE:20260321
END:VEVENT
END:VCALENDAR
