BEGIN:VCALENDAR
VERSION:2.0
PRODID:SchoolNow
CALSCALE:GREGORIAN
BEGIN:VEVENT
UID:b1e6b1f2-5ea4-11f0-a9af-0a58a9feac02
DTSTAMP:20250711T221630Z
SUMMARY:St. Patrick's Day School Mass
LOCATION:St. Stanislaus Church
URL;VALUE=URI:https://www.materdeicatholic.com/calendar/8406860/st-patricks
 -day-school-mass
DTSTART:20260317T150000Z
DTEND:20260317T160000Z
END:VEVENT
END:VCALENDAR
