BEGIN:VCALENDAR
VERSION:2.0
PRODID:SchoolNow
CALSCALE:GREGORIAN
BEGIN:VEVENT
UID:8da58750-5ea4-11f0-a57b-0a58a9feac02
DTSTAMP:20250711T221529Z
SUMMARY:Third Trimester Begins
URL;VALUE=URI:https://www.materdeicatholic.com/calendar/8406859/third-trime
 ster-begins
DTSTART;VALUE=DATE:20260316
DTEND;VALUE=DATE:20260317
END:VEVENT
END:VCALENDAR
