BEGIN:VCALENDAR
VERSION:2.0
PRODID:SchoolNow
CALSCALE:GREGORIAN
BEGIN:VEVENT
UID:6baa3a56-5ea4-11f0-87f3-0a58a9feac02
DTSTAMP:20250924T153202Z
SUMMARY:H&S Pot of Gold Celebration - Adult Social
URL;VALUE=URI:https://www.materdeicatholic.com/calendar/8406858/h-s-pot-of-
 gold-celebration-adult-social
DTSTART:20260321T230000Z
DTEND:20260322T020000Z
END:VEVENT
END:VCALENDAR
