BEGIN:VCALENDAR
VERSION:2.0
PRODID:SchoolNow
CALSCALE:GREGORIAN
BEGIN:VEVENT
UID:2c8631c2-5ea4-11f0-ae28-0a58a9feac02
DTSTAMP:20250711T221334Z
SUMMARY:End of Second Trimester
URL;VALUE=URI:https://www.materdeicatholic.com/calendar/8406857/end-of-seco
 nd-semester
DTSTART;VALUE=DATE:20260313
DTEND;VALUE=DATE:20260314
END:VEVENT
END:VCALENDAR
