BEGIN:VCALENDAR
VERSION:2.0
PRODID:SchoolNow
CALSCALE:GREGORIAN
BEGIN:VEVENT
UID:0cdbdb60-5ea4-11f0-bbf0-02b0890989d9
DTSTAMP:20250711T221153Z
SUMMARY:Gr. 5 & 6 Parent Coffee Talk
URL;VALUE=URI:https://www.materdeicatholic.com/calendar/8406855/gr-5-6-pare
 nt-coffee-talk
DTSTART:20260311T123000Z
DTEND:20260311T133000Z
END:VEVENT
END:VCALENDAR
