BEGIN:VCALENDAR
VERSION:2.0
PRODID:SchoolNow
CALSCALE:GREGORIAN
BEGIN:VEVENT
UID:ea9754a8-5ea3-11f0-ac54-0210512b0f9d
DTSTAMP:20250711T221055Z
SUMMARY:Lenten Confessions - Gr. 3-8
URL;VALUE=URI:https://www.materdeicatholic.com/calendar/8406854/lenten-conf
 essions-gr-3-8
DTSTART;VALUE=DATE:20260310
DTEND;VALUE=DATE:20260314
END:VEVENT
END:VCALENDAR
