BEGIN:VCALENDAR
VERSION:2.0
PRODID:SchoolNow
CALSCALE:GREGORIAN
BEGIN:VEVENT
UID:ce2be14e-5ea3-11f0-ba2d-0a58a9feac02
DTSTAMP:20250711T221008Z
SUMMARY:No School - Professional Development Day
URL;VALUE=URI:https://www.materdeicatholic.com/calendar/8406853/no-school-p
 rofessional-development-day
DTSTART;VALUE=DATE:20260309
DTEND;VALUE=DATE:20260310
END:VEVENT
END:VCALENDAR
