BEGIN:VCALENDAR
VERSION:2.0
PRODID:SchoolNow
CALSCALE:GREGORIAN
BEGIN:VEVENT
UID:9295404e-5ea3-11f0-a241-0a58a9feac02
DTSTAMP:20250711T220828Z
SUMMARY:Home & School Food Day
URL;VALUE=URI:https://www.materdeicatholic.com/calendar/8406852/home-school
 -food-day
DTSTART;VALUE=DATE:20260306
DTEND;VALUE=DATE:20260307
END:VEVENT
END:VCALENDAR
