BEGIN:VCALENDAR
VERSION:2.0
PRODID:SchoolNow
CALSCALE:GREGORIAN
BEGIN:VEVENT
UID:6dd7b188-5ea3-11f0-8807-0a58a9feac02
DTSTAMP:20260126T215835Z
SUMMARY:H&S Bag Bingo
LOCATION:Mater Dei Gym
URL;VALUE=URI:https://www.materdeicatholic.com/calendar/8406851/h-s-bag-bin
 go
DTSTART:20260228T000000Z
DTEND:20260228T030000Z
ATTACH;FILENAME=_Bag Bingo 26.pdf;FMTTYPE=application/pdf:https://campussui
 te-storage.s3.amazonaws.com/prod/1558557/ecb9f00c-697c-11e8-a56f-0a2968328
 38c/3064182/fc59bce4-fb01-11f0-a487-0a58a9feac02/file/_Bag Bingo 26.pdf
END:VEVENT
END:VCALENDAR
