BEGIN:VCALENDAR
VERSION:2.0
PRODID:SchoolNow
CALSCALE:GREGORIAN
BEGIN:VEVENT
UID:0ad05aae-5ea3-11f0-878e-0a58a9feac02
DTSTAMP:20250711T220440Z
SUMMARY:Ash Wednesday Mass
LOCATION:St. Stanislaus Church
URL;VALUE=URI:https://www.materdeicatholic.com/calendar/8406848/ash-wednesd
 ay-mass
DTSTART:20260218T140000Z
DTEND:20260218T150000Z
END:VEVENT
END:VCALENDAR
