BEGIN:VCALENDAR
VERSION:2.0
PRODID:SchoolNow
CALSCALE:GREGORIAN
BEGIN:VEVENT
UID:f1f43834-5ea2-11f0-ba59-0a58a9feac02
DTSTAMP:20250711T220358Z
SUMMARY:Ash Wednesday
URL;VALUE=URI:https://www.materdeicatholic.com/calendar/8406847/ash-wednesd
 ay
DTSTART;VALUE=DATE:20260218
DTEND;VALUE=DATE:20260219
END:VEVENT
END:VCALENDAR
