BEGIN:VCALENDAR
VERSION:2.0
PRODID:SchoolNow
CALSCALE:GREGORIAN
BEGIN:VEVENT
UID:cfbbb102-5ea2-11f0-a515-023b860816c7
DTSTAMP:20250711T220301Z
SUMMARY:No School
URL;VALUE=URI:https://www.materdeicatholic.com/calendar/8406846/no-school
DTSTART;VALUE=DATE:20260216
DTEND;VALUE=DATE:20260217
END:VEVENT
END:VCALENDAR
