BEGIN:VCALENDAR
VERSION:2.0
PRODID:SchoolNow
CALSCALE:GREGORIAN
BEGIN:VEVENT
UID:ba3cdb94-5ea2-11f0-9bf3-0a58a9feac02
DTSTAMP:20250711T220225Z
SUMMARY:Home & School Food Day
URL;VALUE=URI:https://www.materdeicatholic.com/calendar/8406845/home-school
 -food-day
DTSTART;VALUE=DATE:20260213
DTEND;VALUE=DATE:20260214
END:VEVENT
END:VCALENDAR
