BEGIN:VCALENDAR
VERSION:2.0
PRODID:SchoolNow
CALSCALE:GREGORIAN
BEGIN:VEVENT
UID:acd5cc0e-5ea2-11f0-9a1a-0a58a9feac02
DTSTAMP:20250711T220202Z
SUMMARY:Progress Reports for 2nd Trimester - Gr. 1-8
URL;VALUE=URI:https://www.materdeicatholic.com/calendar/8406844/progress-re
 ports-for-2nd-trimester-gr-1-8
DTSTART;VALUE=DATE:20260213
DTEND;VALUE=DATE:20260214
END:VEVENT
END:VCALENDAR
