BEGIN:VCALENDAR
VERSION:2.0
PRODID:SchoolNow
CALSCALE:GREGORIAN
BEGIN:VEVENT
UID:93ab4f42-5ea2-11f0-90ce-0a58a9feac02
DTSTAMP:20250711T220120Z
SUMMARY:Gr. 3 & 4 Parent Coffee Talk
URL;VALUE=URI:https://www.materdeicatholic.com/calendar/8406843/gr-3-4-pare
 nt-coffee-talk
DTSTART:20260210T133000Z
DTEND:20260210T143000Z
END:VEVENT
END:VCALENDAR
