BEGIN:VCALENDAR
VERSION:2.0
PRODID:SchoolNow
CALSCALE:GREGORIAN
BEGIN:VEVENT
UID:711bc4e8-5ea2-11f0-9ca9-0a58a9feac02
DTSTAMP:20250711T220022Z
SUMMARY:Confirmation - St. Rose of Lima
URL;VALUE=URI:https://www.materdeicatholic.com/calendar/8406842/confirmatio
 n-st-rose-of-lima
DTSTART:20260207T210000Z
DTEND:20260207T223000Z
END:VEVENT
END:VCALENDAR
