BEGIN:VCALENDAR
VERSION:2.0
PRODID:SchoolNow
CALSCALE:GREGORIAN
BEGIN:VEVENT
UID:4b437f68-5ea2-11f0-89e5-0a58a9feac02
DTSTAMP:20250711T215918Z
SUMMARY:First Penance - St. Maria Goretti
URL;VALUE=URI:https://www.materdeicatholic.com/calendar/8406841/first-penan
 ce-st-maria-goretti
DTSTART:20260207T153000Z
DTEND:20260207T163000Z
END:VEVENT
END:VCALENDAR
