BEGIN:VCALENDAR
VERSION:2.0
PRODID:SchoolNow
CALSCALE:GREGORIAN
BEGIN:VEVENT
UID:2b03841e-5ea2-11f0-970e-0294a2314d23
DTSTAMP:20250711T215824Z
SUMMARY:Polar Bear Plunge Event
URL;VALUE=URI:https://www.materdeicatholic.com/calendar/8406840/polar-bear-
 plunge-event
DTSTART;VALUE=DATE:20260206
DTEND;VALUE=DATE:20260207
END:VEVENT
END:VCALENDAR
