BEGIN:VCALENDAR
VERSION:2.0
PRODID:SchoolNow
CALSCALE:GREGORIAN
BEGIN:VEVENT
UID:0d39812c-5ea2-11f0-b67f-0eda56c5edcb
DTSTAMP:20250711T215734Z
SUMMARY:First Penance - St. Stanislaus
URL;VALUE=URI:https://www.materdeicatholic.com/calendar/8406838/first-penan
 ce-st-stanislaus
DTSTART:20260206T000000Z
DTEND:20260206T010000Z
END:VEVENT
END:VCALENDAR
