BEGIN:VCALENDAR
VERSION:2.0
PRODID:SchoolNow
CALSCALE:GREGORIAN
BEGIN:VEVENT
UID:c80a0d6a-5ea1-11f0-9520-02b0890989d9
DTSTAMP:20250711T215538Z
SUMMARY:Polar Bear Plunge Canning
URL;VALUE=URI:https://www.materdeicatholic.com/calendar/8406837/polar-bear-
 plunge-canning
DTSTART;VALUE=DATE:20260201
DTEND;VALUE=DATE:20260202
END:VEVENT
END:VCALENDAR
