BEGIN:VCALENDAR
VERSION:2.0
PRODID:SchoolNow
CALSCALE:GREGORIAN
BEGIN:VEVENT
UID:bc6714f8-5ea1-11f0-859a-023b860816c7
DTSTAMP:20250711T215519Z
SUMMARY:Polar Bear Plunge Canning
URL;VALUE=URI:https://www.materdeicatholic.com/calendar/8406836/polar-bear-
 plunge-canning
DTSTART;VALUE=DATE:20260131
DTEND;VALUE=DATE:20260201
END:VEVENT
END:VCALENDAR
