BEGIN:VCALENDAR
VERSION:2.0
PRODID:SchoolNow
CALSCALE:GREGORIAN
BEGIN:VEVENT
UID:94f86c32-5ea1-11f0-bd28-02b0890989d9
DTSTAMP:20260108T150935Z
SUMMARY:First Penance - St. Rose of Lima
URL;VALUE=URI:https://www.materdeicatholic.com/calendar/8406835/first-penan
 ce-st-rose-of-lima
DTSTART:20260124T150000Z
DTEND:20260124T160000Z
END:VEVENT
END:VCALENDAR
