BEGIN:VCALENDAR
VERSION:2.0
PRODID:SchoolNow
CALSCALE:GREGORIAN
BEGIN:VEVENT
UID:726de044-5ea0-11f0-807a-023b860816c7
DTSTAMP:20250711T214605Z
SUMMARY:Catholic Schools Week
URL;VALUE=URI:https://www.materdeicatholic.com/calendar/8406831/catholic-sc
 hools-week
DTSTART;VALUE=DATE:20260125
DTEND;VALUE=DATE:20260131
END:VEVENT
END:VCALENDAR
