BEGIN:VCALENDAR
VERSION:2.0
PRODID:SchoolNow
CALSCALE:GREGORIAN
BEGIN:VEVENT
UID:4cb67dde-5ea0-11f0-97d6-0a58a9feac02
DTSTAMP:20250711T214502Z
SUMMARY:H&S Father/Daughter Dance
URL;VALUE=URI:https://www.materdeicatholic.com/calendar/8406830/h-s-father-
 daughter-dance
DTSTART:20260123T233000Z
DTEND:20260124T013000Z
END:VEVENT
END:VCALENDAR
