BEGIN:VCALENDAR
VERSION:2.0
PRODID:SchoolNow
CALSCALE:GREGORIAN
BEGIN:VEVENT
UID:0ae0c89c-5ea0-11f0-844f-0a58a9feac02
DTSTAMP:20250711T214311Z
SUMMARY:Home & School General Meeting
URL;VALUE=URI:https://www.materdeicatholic.com/calendar/8406828/home-school
 -general-meeting
DTSTART:20260120T233000Z
DTEND:20260121T010000Z
END:VEVENT
END:VCALENDAR
