BEGIN:VCALENDAR
VERSION:2.0
PRODID:SchoolNow
CALSCALE:GREGORIAN
BEGIN:VEVENT
UID:de526cae-5e9f-11f0-81e6-0294a2314d23
DTSTAMP:20250711T214157Z
SUMMARY:No School
URL;VALUE=URI:https://www.materdeicatholic.com/calendar/8406827/no-school
DTSTART;VALUE=DATE:20260119
DTEND;VALUE=DATE:20260120
END:VEVENT
END:VCALENDAR
