BEGIN:VCALENDAR
VERSION:2.0
PRODID:SchoolNow
CALSCALE:GREGORIAN
BEGIN:VEVENT
UID:a5f96178-5e9f-11f0-985e-0294a2314d23
DTSTAMP:20260114T203932Z
SUMMARY:Gr. 1 & 2 Parent Coffee Talk
URL;VALUE=URI:https://www.materdeicatholic.com/calendar/8406825/gr-1-2-pare
 nt-coffee-talk
DTSTART:20260122T133000Z
DTEND:20260122T143000Z
END:VEVENT
END:VCALENDAR
