BEGIN:VCALENDAR
VERSION:2.0
PRODID:SchoolNow
CALSCALE:GREGORIAN
BEGIN:VEVENT
UID:4707f72e-5e9f-11f0-ada1-0a58a9feac02
DTSTAMP:20260105T204043Z
SUMMARY:School Mass
LOCATION:St. Stanislaus Church
URL;VALUE=URI:https://www.materdeicatholic.com/calendar/8406722/school-mass
DTSTART:20260107T144500Z
DTEND:20260107T154500Z
END:VEVENT
END:VCALENDAR
