BEGIN:VCALENDAR
VERSION:2.0
PRODID:SchoolNow
CALSCALE:GREGORIAN
BEGIN:VEVENT
UID:01abf162-5e9f-11f0-9d98-0a58a9feac02
DTSTAMP:20250711T213546Z
SUMMARY:Christmas Break
URL;VALUE=URI:https://www.materdeicatholic.com/calendar/8406720/christmas-b
 reak
DTSTART;VALUE=DATE:20251229
DTEND;VALUE=DATE:20260103
END:VEVENT
END:VCALENDAR
