BEGIN:VCALENDAR
VERSION:2.0
PRODID:SchoolNow
CALSCALE:GREGORIAN
BEGIN:VEVENT
UID:e88d4b86-5e9e-11f0-a43a-0a58a9feac02
DTSTAMP:20250711T213504Z
SUMMARY:Christmas Break
URL;VALUE=URI:https://www.materdeicatholic.com/calendar/8406719/christmas-b
 reak
DTSTART;VALUE=DATE:20251222
DTEND;VALUE=DATE:20251227
END:VEVENT
END:VCALENDAR
