BEGIN:VCALENDAR
VERSION:2.0
PRODID:SchoolNow
CALSCALE:GREGORIAN
BEGIN:VEVENT
UID:cfc83c32-5e9e-11f0-9814-0a58a9feac02
DTSTAMP:20250711T213423Z
SUMMARY:School Mass
LOCATION:St. Stanislaus Church
URL;VALUE=URI:https://www.materdeicatholic.com/calendar/8406718/school-mass
DTSTART:20251219T160000Z
DTEND:20251219T170000Z
END:VEVENT
END:VCALENDAR
